BEGIN:VCALENDAR
VERSION:2.0
PRODID:-//Hrišćanska adventistička crkva Beograd - ECPv6.15.18//NONSGML v1.0//EN
CALSCALE:GREGORIAN
METHOD:PUBLISH
X-WR-CALNAME:Hrišćanska adventistička crkva Beograd
X-ORIGINAL-URL:https://www.hacbg.org
X-WR-CALDESC:Događaji za Hrišćanska adventistička crkva Beograd
REFRESH-INTERVAL;VALUE=DURATION:PT1H
X-Robots-Tag:noindex
X-PUBLISHED-TTL:PT1H
BEGIN:VTIMEZONE
TZID:Europe/Belgrade
BEGIN:DAYLIGHT
TZOFFSETFROM:+0100
TZOFFSETTO:+0200
TZNAME:CEST
DTSTART:20160327T010000
END:DAYLIGHT
BEGIN:STANDARD
TZOFFSETFROM:+0200
TZOFFSETTO:+0100
TZNAME:CET
DTSTART:20161030T010000
END:STANDARD
BEGIN:DAYLIGHT
TZOFFSETFROM:+0100
TZOFFSETTO:+0200
TZNAME:CEST
DTSTART:20170326T010000
END:DAYLIGHT
BEGIN:STANDARD
TZOFFSETFROM:+0200
TZOFFSETTO:+0100
TZNAME:CET
DTSTART:20171029T010000
END:STANDARD
BEGIN:DAYLIGHT
TZOFFSETFROM:+0100
TZOFFSETTO:+0200
TZNAME:CEST
DTSTART:20180325T010000
END:DAYLIGHT
BEGIN:STANDARD
TZOFFSETFROM:+0200
TZOFFSETTO:+0100
TZNAME:CET
DTSTART:20181028T010000
END:STANDARD
END:VTIMEZONE
BEGIN:VEVENT
DTSTART;TZID=Europe/Belgrade:20170603T160000
DTEND;TZID=Europe/Belgrade:20170603T160000
DTSTAMP:20260423T031605
CREATED:20170418T112031Z
LAST-MODIFIED:20170505T063851Z
UID:2943-1496505600-1496505600@www.hacbg.org
SUMMARY:Razigrana crkva "Danilo i lavovi"
DESCRIPTION:15.45-16.00    Registracija \n16.00-16.20    Pevanje (svi zajedno) \n16.20-16.50    Priča (za tinejdžere u učionici br. 4\, za mlađu decu u glavnoj sali) \n16.50-17.50   Kreativne radionice (po starosnim grupama) \n17.50-18.50  Obrok (za svu decu\, roditelje i staratelje) \n  \nAko imate bilo kakvo pitanje\, ne ustručavajte se da ga postavite „osoblju“ (u zelenim majicama). \nNadamo se da ćete uživati. \nMolimo vas da ostanete sa decom i pratite ih u svakom trenutku\, jer Razigrana crkva ne može da preuzme odgovornost za njihovu bezbednost. \nHvala. \nRadosni smo što ćete nam se pridružiti.
URL:https://www.hacbg.org/dogadjaj/razigrana-crkva-danilo-i-lavovi/
LOCATION:Hrišćanska adventistička crkva\, Radoslava Grujića 4\, Beograd\, 11000\, Srbija
ATTACH;FMTTYPE=image/png:https://www.hacbg.org/wp-content/uploads/2017/04/razigrana-crkva-danilo-i-lavovi.png
END:VEVENT
END:VCALENDAR