BEGIN:VCALENDAR
VERSION:2.0
PRODID:-//Hrišćanska adventistička crkva Beograd - ECPv6.15.18//NONSGML v1.0//EN
CALSCALE:GREGORIAN
METHOD:PUBLISH
X-ORIGINAL-URL:https://www.hacbg.org
X-WR-CALDESC:Događaji za Hrišćanska adventistička crkva Beograd
REFRESH-INTERVAL;VALUE=DURATION:PT1H
X-Robots-Tag:noindex
X-PUBLISHED-TTL:PT1H
BEGIN:VTIMEZONE
TZID:Europe/Belgrade
BEGIN:DAYLIGHT
TZOFFSETFROM:+0100
TZOFFSETTO:+0200
TZNAME:CEST
DTSTART:20160327T010000
END:DAYLIGHT
BEGIN:STANDARD
TZOFFSETFROM:+0200
TZOFFSETTO:+0100
TZNAME:CET
DTSTART:20161030T010000
END:STANDARD
BEGIN:DAYLIGHT
TZOFFSETFROM:+0100
TZOFFSETTO:+0200
TZNAME:CEST
DTSTART:20170326T010000
END:DAYLIGHT
BEGIN:STANDARD
TZOFFSETFROM:+0200
TZOFFSETTO:+0100
TZNAME:CET
DTSTART:20171029T010000
END:STANDARD
BEGIN:DAYLIGHT
TZOFFSETFROM:+0100
TZOFFSETTO:+0200
TZNAME:CEST
DTSTART:20180325T010000
END:DAYLIGHT
BEGIN:STANDARD
TZOFFSETFROM:+0200
TZOFFSETTO:+0100
TZNAME:CET
DTSTART:20181028T010000
END:STANDARD
END:VTIMEZONE
BEGIN:VEVENT
DTSTART;TZID=Europe/Belgrade:20170401T160000
DTEND;TZID=Europe/Belgrade:20170401T190000
DTSTAMP:20260423T001452
CREATED:20170331T071045Z
LAST-MODIFIED:20170331T071416Z
UID:2933-1491062400-1491073200@www.hacbg.org
SUMMARY:Razigrana crkva - David i Golijat
DESCRIPTION:15.45-16.00    Registracija \n 16.00-16.20    Pevanje (svi zajedno) \n 16.20-16.50    Priča (za tinejdžere u učionici br. 4\, za mlađu decu u glavnoj sali) \n 16.50-17.50   Kreativne radionice (po starosnim grupama) \n 17.50-18.50  Obrok (za svu decu\, roditelje i staratelje) \n  \nAko imate bilo kakvo pitanje\, ne ustručavajte se da ga postavite „osoblju“ (u zelenim majicama). \n Nadamo se da ćete uživati. \n Molimo vas da ostanete sa decom i pratite ih u svakom trenutku\, jer Razigrana crkva ne može da preuzme odgovornost za njihovu bezbednost. \nHvala. \nRadosni smo što ćete nam se pridružiti.
URL:https://www.hacbg.org/dogadjaj/razigrana-crkva-david-i-golijat/
LOCATION:Hrišćanska adventistička crkva\, Radoslava Grujića 4\, Beograd\, 11000\, Srbija
ATTACH;FMTTYPE=image/png:https://www.hacbg.org/wp-content/uploads/2017/03/razigrana-crkva-david-i-golijat.png
END:VEVENT
BEGIN:VEVENT
DTSTART;TZID=Europe/Belgrade:20170401T190000
DTEND;TZID=Europe/Belgrade:20170401T203000
DTSTAMP:20260423T001452
CREATED:20170331T070150Z
LAST-MODIFIED:20170331T071505Z
UID:2930-1491073200-1491078600@www.hacbg.org
SUMMARY:Koncert duhovne muzike
DESCRIPTION:Megumi Tešima – violina\nLjiljana Arsenović – klavir
URL:https://www.hacbg.org/dogadjaj/koncert-duhovne-muzike/
LOCATION:Hrišćanska adventistička crkva\, Radoslava Grujića 4\, Beograd\, 11000\, Srbija
ATTACH;FMTTYPE=image/png:https://www.hacbg.org/wp-content/uploads/2017/03/koncert-duhovne-muzike.png
END:VEVENT
BEGIN:VEVENT
DTSTART;TZID=Europe/Belgrade:20170410T190000
DTEND;TZID=Europe/Belgrade:20170413T190000
DTSTAMP:20260423T001452
CREATED:20170318T080520Z
LAST-MODIFIED:20170318T084954Z
UID:2896-1491850800-1492110000@www.hacbg.org
SUMMARY:Živi uravnoteženo
DESCRIPTION:Unapredi svoje mentalno i emotivno zdravlje\nPreokupirani ste svakodnevnim obavezama\, napeti ste\, a pored svega i zabrinuti\, jer ne možete da postignete sve što se od vas traži. \nVećina nas bori se kako bi postigla ravnotežu između posla\, porodice i društvenih obaveza\, a ponekada najmanje vremena ostavljamo baš za ono što bi nam donelo najveću nagradu – fizičko i duhovno blagostanje ali i društvenu dobrobit. Uprkos ovom prebrzom životnom tempu\, ne smemo da klonemo i odustanemo – ravnoteža je moguća. \nPut ka životu ravnoteže mora da započne analizom i suočavanjem sa trenutnim stanjem. Nakon toga pred vama je trenutak donošenja odluka. Postavite nove ciljeve! Utičite na svoju budućnost! Donesite prave odluke i izaberite dobar pravac! Postavite prioritete i odlučite šta je najvažnije – šta može da bude izostavljeno a šta promenjeno.  Serija predavanja ŽIVI URAVNOTEŽENO je dobar početak. Vaša budućnost je u vašim rukama. \n  \nPredavač  \nprof. dr.sci Julian Melgosa \nDekan škole za edukaciju i psihologiju na univerzitetu Walla Walla. \nČlan britanskog psihološkog udruženja (AFBPsS)\, predavač\, savetnik i autor nekoliko knjiga. Na našim prostorima poznat po knjizi „Život i stres“. \n  \nPonedeljak\, 10.04.2017. 19h \nOTKRIJ SVOJU VREDNOST \nStekni zdrav osećaj samopoštovanja\, samopouzdanja i lične vrednosti! \nUtorak\, 11.04.2017. 19h \nMISLI ISPRAVNO I USPOSTAVI RAVNOTEŽU \nUpoznaj moć razmišljanja i njegov uticaj na zdravlje i ponašanje! \nSreda\, 12.04.2017. 19h \nČUVAJ SE ZAVISNOSTI  \nIzbegavaj stvaranje bilo kakve zavisnosti – od interneta\, kockanja\, pornografije\, hrane\, vežbanja! \nČetvrtak\, 13.04.2017. 19h \nREŠI EMOTIVNE I PROBLEME U ODNOSIMA \nNauči kako da poboljšaš emotivno zdravlje i odnose sa ljudima jer te oni čine mentalno zdravim!
URL:https://www.hacbg.org/dogadjaj/zivi-uravnotezeno/
LOCATION:Hrišćanska adventistička crkva\, Radoslava Grujića 4\, Beograd\, 11000\, Srbija
ATTACH;FMTTYPE=image/jpeg:https://www.hacbg.org/wp-content/uploads/2017/03/grafika.jpg
END:VEVENT
BEGIN:VEVENT
DTSTART;TZID=Europe/Belgrade:20170414T080000
DTEND;TZID=Europe/Belgrade:20170417T170000
DTSTAMP:20260423T001452
CREATED:20170117T150108Z
LAST-MODIFIED:20170125T074722Z
UID:2812-1492156800-1492448400@www.hacbg.org
SUMMARY:Susret mladih u Kragujevcu
DESCRIPTION:Informacije: \nZoran Sudarević\, \ntel: 060 80 80560 \nimejl: sekretar.jco@gmail.com
URL:https://www.hacbg.org/dogadjaj/konferencija-za-mlade-jco/
LOCATION:Hotel “Euro Gaj”\, Kragujevac\, Srbija
ATTACH;FMTTYPE=image/jpeg:https://www.hacbg.org/wp-content/uploads/2017/01/susret-mladih-jco.jpg
END:VEVENT
BEGIN:VEVENT
DTSTART;TZID=Europe/Belgrade:20170422T180000
DTEND;TZID=Europe/Belgrade:20170422T193000
DTSTAMP:20260423T001452
CREATED:20170418T111145Z
LAST-MODIFIED:20170418T111145Z
UID:2940-1492884000-1492889400@www.hacbg.org
SUMMARY:Poetsko-muzičko veče "Tako je govorio Isus"
DESCRIPTION:
URL:https://www.hacbg.org/dogadjaj/poetsko-muzicko-vece-tako-je-govorio-isus/
LOCATION:Hrišćanska adventistička crkva\, Radoslava Grujića 4\, Beograd\, 11000\, Srbija
ATTACH;FMTTYPE=image/png:https://www.hacbg.org/wp-content/uploads/2017/04/Tako-je-govorio-Isus-banner.png
END:VEVENT
END:VCALENDAR