BEGIN:VCALENDAR
VERSION:2.0
PRODID:-//Hrišćanska adventistička crkva Beograd - ECPv6.15.18//NONSGML v1.0//EN
CALSCALE:GREGORIAN
METHOD:PUBLISH
X-WR-CALNAME:Hrišćanska adventistička crkva Beograd
X-ORIGINAL-URL:https://www.hacbg.org
X-WR-CALDESC:Događaji za Hrišćanska adventistička crkva Beograd
REFRESH-INTERVAL;VALUE=DURATION:PT1H
X-Robots-Tag:noindex
X-PUBLISHED-TTL:PT1H
BEGIN:VTIMEZONE
TZID:Europe/Belgrade
BEGIN:DAYLIGHT
TZOFFSETFROM:+0100
TZOFFSETTO:+0200
TZNAME:CEST
DTSTART:20160327T010000
END:DAYLIGHT
BEGIN:STANDARD
TZOFFSETFROM:+0200
TZOFFSETTO:+0100
TZNAME:CET
DTSTART:20161030T010000
END:STANDARD
BEGIN:DAYLIGHT
TZOFFSETFROM:+0100
TZOFFSETTO:+0200
TZNAME:CEST
DTSTART:20170326T010000
END:DAYLIGHT
BEGIN:STANDARD
TZOFFSETFROM:+0200
TZOFFSETTO:+0100
TZNAME:CET
DTSTART:20171029T010000
END:STANDARD
BEGIN:DAYLIGHT
TZOFFSETFROM:+0100
TZOFFSETTO:+0200
TZNAME:CEST
DTSTART:20180325T010000
END:DAYLIGHT
BEGIN:STANDARD
TZOFFSETFROM:+0200
TZOFFSETTO:+0100
TZNAME:CET
DTSTART:20181028T010000
END:STANDARD
END:VTIMEZONE
BEGIN:VEVENT
DTSTART;TZID=Europe/Belgrade:20170410T190000
DTEND;TZID=Europe/Belgrade:20170413T190000
DTSTAMP:20260423T075837
CREATED:20170318T080520Z
LAST-MODIFIED:20170318T084954Z
UID:2896-1491850800-1492110000@www.hacbg.org
SUMMARY:Živi uravnoteženo
DESCRIPTION:Unapredi svoje mentalno i emotivno zdravlje\nPreokupirani ste svakodnevnim obavezama\, napeti ste\, a pored svega i zabrinuti\, jer ne možete da postignete sve što se od vas traži. \nVećina nas bori se kako bi postigla ravnotežu između posla\, porodice i društvenih obaveza\, a ponekada najmanje vremena ostavljamo baš za ono što bi nam donelo najveću nagradu – fizičko i duhovno blagostanje ali i društvenu dobrobit. Uprkos ovom prebrzom životnom tempu\, ne smemo da klonemo i odustanemo – ravnoteža je moguća. \nPut ka životu ravnoteže mora da započne analizom i suočavanjem sa trenutnim stanjem. Nakon toga pred vama je trenutak donošenja odluka. Postavite nove ciljeve! Utičite na svoju budućnost! Donesite prave odluke i izaberite dobar pravac! Postavite prioritete i odlučite šta je najvažnije – šta može da bude izostavljeno a šta promenjeno.  Serija predavanja ŽIVI URAVNOTEŽENO je dobar početak. Vaša budućnost je u vašim rukama. \n  \nPredavač  \nprof. dr.sci Julian Melgosa \nDekan škole za edukaciju i psihologiju na univerzitetu Walla Walla. \nČlan britanskog psihološkog udruženja (AFBPsS)\, predavač\, savetnik i autor nekoliko knjiga. Na našim prostorima poznat po knjizi „Život i stres“. \n  \nPonedeljak\, 10.04.2017. 19h \nOTKRIJ SVOJU VREDNOST \nStekni zdrav osećaj samopoštovanja\, samopouzdanja i lične vrednosti! \nUtorak\, 11.04.2017. 19h \nMISLI ISPRAVNO I USPOSTAVI RAVNOTEŽU \nUpoznaj moć razmišljanja i njegov uticaj na zdravlje i ponašanje! \nSreda\, 12.04.2017. 19h \nČUVAJ SE ZAVISNOSTI  \nIzbegavaj stvaranje bilo kakve zavisnosti – od interneta\, kockanja\, pornografije\, hrane\, vežbanja! \nČetvrtak\, 13.04.2017. 19h \nREŠI EMOTIVNE I PROBLEME U ODNOSIMA \nNauči kako da poboljšaš emotivno zdravlje i odnose sa ljudima jer te oni čine mentalno zdravim!
URL:https://www.hacbg.org/dogadjaj/zivi-uravnotezeno/
LOCATION:Hrišćanska adventistička crkva\, Radoslava Grujića 4\, Beograd\, 11000\, Srbija
ATTACH;FMTTYPE=image/jpeg:https://www.hacbg.org/wp-content/uploads/2017/03/grafika.jpg
END:VEVENT
END:VCALENDAR